BEGIN:VCALENDAR
VERSION:2.0
PRODID:SchoolNow
CALSCALE:GREGORIAN
BEGIN:VEVENT
UID:172a7812-2d23-11f1-a692-0a58a9feac02
DTSTAMP:20260331T170016Z
SUMMARY:CDD Board Meeting - April 2025
LOCATION:the Offices of Inframark located at 2005 Pan Am Circle\, Suite 300
 \, Tampa\, FL 33607
URL;VALUE=URI:https://www.spencercreekcdd.com/calendar/8960834/cdd-board-me
 eting-april-2025
DTSTART:20250403T180000Z
DTEND:20250403T190000Z
ATTACH;FILENAME=;FMTTYPE=application/octet-stream:
ATTACH;FILENAME=2025-04-03 Spencer Creek Meeting Book.pdf;FMTTYPE=applicati
 on/pdf:https://campussuite-storage.s3.amazonaws.com/prod/1559309/a85e2a0a-
 bb26-11f0-a354-0a58a9feac02/3085497/0c180b7e-2d23-11f1-868a-0a58a9feac02/f
 ile/2025-04-03 Spencer Creek Meeting Book.pdf
END:VEVENT
END:VCALENDAR
