BEGIN:VCALENDAR
VERSION:2.0
PRODID:SchoolNow
CALSCALE:GREGORIAN
BEGIN:VEVENT
UID:70a20d30-2d21-11f1-ab2d-023ae6981999
DTSTAMP:20260331T164827Z
SUMMARY:CDD Board Meeting - May 2025
LOCATION:the Offices of Inframark located at 2005 Pan Am Circle\, Suite 300
 \, Tampa\, FL 33607
URL;VALUE=URI:https://www.spencercreekcdd.com/calendar/8960833/cdd-board-me
 eting-may-2025
DTSTART:20250501T180000Z
DTEND:20250501T190000Z
ATTACH;FILENAME=2025-05-01  Spencer Creek Meeting Book.pdf;FMTTYPE=applicat
 ion/pdf:https://campussuite-storage.s3.amazonaws.com/prod/1559309/a85e2a0a
 -bb26-11f0-a354-0a58a9feac02/3034374/917dce78-bc14-11f0-aa65-0a58a9feac02/
 file/2025-05-01  Spencer Creek Meeting Book.pdf
ATTACH;FILENAME=2025-05-01 Spencer Creek Agenda.pdf;FMTTYPE=application/pdf
 :https://campussuite-storage.s3.amazonaws.com/prod/1559309/a85e2a0a-bb26-1
 1f0-a354-0a58a9feac02/3085072/e8256d54-2c61-11f1-a979-0a58a9feac02/file/20
 25-05-01 Spencer Creek Agenda.pdf
END:VEVENT
END:VCALENDAR
