BEGIN:VCALENDAR
VERSION:2.0
PRODID:SchoolNow
CALSCALE:GREGORIAN
BEGIN:VEVENT
UID:2b093708-2d21-11f1-8faa-023ae6981999
DTSTAMP:20260331T164630Z
SUMMARY:CDD Board Meeting - Jun. 2025
LOCATION:the Offices of Inframark located at 2005 Pan Am Circle\, Suite 300
 \, Tampa\, FL 33607
URL;VALUE=URI:https://www.spencercreekcdd.com/calendar/8960832/cdd-board-me
 eting-jun-2025
DTSTART:20250605T180000Z
DTEND:20250605T190000Z
ATTACH;FILENAME=2025-06-05 Spencer Creek Agenda.pdf;FMTTYPE=application/pdf
 :https://campussuite-storage.s3.amazonaws.com/prod/1559309/a85e2a0a-bb26-1
 1f0-a354-0a58a9feac02/3085073/e8256e4e-2c61-11f1-a41c-0a58a9feac02/file/20
 25-06-05 Spencer Creek Agenda.pdf
ATTACH;FILENAME=2025-06-05 Spencer Creek Meeting Book.pdf;FMTTYPE=applicati
 on/pdf:https://campussuite-storage.s3.amazonaws.com/prod/1559309/a85e2a0a-
 bb26-11f0-a354-0a58a9feac02/3034375/917dcf36-bc14-11f0-96a8-0a58a9feac02/f
 ile/2025-06-05 Spencer Creek Meeting Book.pdf
END:VEVENT
END:VCALENDAR
