BEGIN:VCALENDAR
VERSION:2.0
PRODID:SchoolNow
CALSCALE:GREGORIAN
BEGIN:VEVENT
UID:e2a8eae4-2d20-11f1-97e4-0a58a9feac02
DTSTAMP:20260331T164429Z
SUMMARY:CDD Board Meeting - Jul. 2025
LOCATION:the Offices of Inframark located at 2005 Pan Am Circle\, Suite 300
 \, Tampa\, FL 33607
URL;VALUE=URI:https://www.spencercreekcdd.com/calendar/8960831/cdd-board-me
 eting-jul-2025
DTSTART:20250710T180000Z
DTEND:20250710T190000Z
ATTACH;FILENAME=2025-07-10 Spencer Creek Meeting Book.pdf;FMTTYPE=applicati
 on/pdf:https://campussuite-storage.s3.amazonaws.com/prod/1559309/a85e2a0a-
 bb26-11f0-a354-0a58a9feac02/3034377/917dd10c-bc14-11f0-bbc5-0a58a9feac02/f
 ile/2025-07-10 Spencer Creek Meeting Book.pdf
ATTACH;FILENAME=2025-07-10 Spencer Creek Agenda.pdf;FMTTYPE=application/pdf
 :https://campussuite-storage.s3.amazonaws.com/prod/1559309/a85e2a0a-bb26-1
 1f0-a354-0a58a9feac02/3085074/e8256f34-2c61-11f1-b356-0a58a9feac02/file/20
 25-07-10 Spencer Creek Agenda.pdf
END:VEVENT
END:VCALENDAR
