BEGIN:VCALENDAR
VERSION:2.0
PRODID:SchoolNow
CALSCALE:GREGORIAN
BEGIN:VEVENT
UID:9d06952c-2d20-11f1-9caa-0a58a9feac02
DTSTAMP:20260331T164232Z
SUMMARY:CDD Board Meeting - Aug. 2025
LOCATION:the Offices of Inframark located at 2005 Pan Am Circle\, Suite 300
 \, Tampa\, FL 33607
URL;VALUE=URI:https://www.spencercreekcdd.com/calendar/8960830/cdd-board-me
 eting-aug-2025
DTSTART:20250807T180000Z
DTEND:20250807T190000Z
ATTACH;FILENAME=2025-08-07 Spencer Creek Meeting Book.pdf;FMTTYPE=applicati
 on/pdf:https://campussuite-storage.s3.amazonaws.com/prod/1559309/a85e2a0a-
 bb26-11f0-a354-0a58a9feac02/3034391/917ddcc4-bc14-11f0-b8b7-0a58a9feac02/f
 ile/2025-08-07 Spencer Creek Meeting Book.pdf
END:VEVENT
END:VCALENDAR
