BEGIN:VCALENDAR
VERSION:2.0
PRODID:SchoolNow
CALSCALE:GREGORIAN
BEGIN:VEVENT
UID:05818802-c6f9-11f0-87d0-02ea71babd91
DTSTAMP:20260331T162746Z
SUMMARY:CDD Board Meeting - Sept. 2025
LOCATION:the Offices of Inframark located at 2005 Pan Am Circle\, Suite 300
 \, Tampa\, FL 33607
URL;VALUE=URI:https://www.spencercreekcdd.com/calendar/8807429/cdd-board-me
 eting-sept-2025
DTSTART:20250904T180000Z
DTEND:20250904T190000Z
ATTACH;FILENAME=2025-09-04 Spencer Creek Meeting Book.pdf;FMTTYPE=applicati
 on/pdf:https://campussuite-storage.s3.amazonaws.com/prod/1559309/a85e2a0a-
 bb26-11f0-a354-0a58a9feac02/3034373/917dcdba-bc14-11f0-970a-0a58a9feac02/f
 ile/2025-09-04 Spencer Creek Meeting Book.pdf
ATTACH;FILENAME=2024-09-05 Spencer Creek Agenda.pdf;FMTTYPE=application/pdf
 :https://campussuite-storage.s3.amazonaws.com/prod/1559309/a85e2a0a-bb26-1
 1f0-a354-0a58a9feac02/3034420/917df27c-bc14-11f0-ac95-0a58a9feac02/file/20
 24-09-05 Spencer Creek Agenda.pdf
END:VEVENT
END:VCALENDAR
