BEGIN:VCALENDAR
VERSION:2.0
PRODID:SchoolNow
CALSCALE:GREGORIAN
BEGIN:VEVENT
UID:92c57484-c574-11f0-af4c-02343ccddbd9
DTSTAMP:20251119T193846Z
SUMMARY:CDD Board Meeting - Aug. 2026
LOCATION:the Offices of Inframark located at 2005 Pan Am Circle\, Suite 300
 \, Tampa\, FL 33607
URL;VALUE=URI:https://www.spencercreekcdd.com/calendar/8803774/cdd-board-me
 eting-aug-2026
DTSTART:20260806T180000Z
DTEND:20260806T190000Z
END:VEVENT
END:VCALENDAR
