BEGIN:VCALENDAR
VERSION:2.0
PRODID:SchoolNow
CALSCALE:GREGORIAN
BEGIN:VEVENT
UID:75eeeb10-c574-11f0-bf29-0e87b21e145b
DTSTAMP:20251119T193828Z
SUMMARY:CDD Board Meeting - May 2026
LOCATION:the Offices of Inframark located at 2005 Pan Am Circle\, Suite 300
 \, Tampa\, FL 33607
URL;VALUE=URI:https://www.spencercreekcdd.com/calendar/8803768/cdd-board-me
 eting-may-2026
DTSTART:20260507T180000Z
DTEND:20260507T190000Z
END:VEVENT
END:VCALENDAR
