BEGIN:VCALENDAR
VERSION:2.0
PRODID:SchoolNow
CALSCALE:GREGORIAN
BEGIN:VEVENT
UID:6c4e4740-c574-11f0-8ee4-02ea71babd91
DTSTAMP:20260331T165454Z
SUMMARY:CDD Board Meeting - Apr. 2026
LOCATION:the Offices of Inframark located at 2005 Pan Am Circle\, Suite 300
 \, Tampa\, FL 33607
URL;VALUE=URI:https://www.spencercreekcdd.com/calendar/8803767/cdd-board-me
 eting-apr-2026
DTSTART:20260402T180000Z
DTEND:20260402T190000Z
ATTACH;FILENAME=2026-04-02 Spencer Creek Agenda.pdf;FMTTYPE=application/pdf
 :https://campussuite-storage.s3.amazonaws.com/prod/1559309/a85e2a0a-bb26-1
 1f0-a354-0a58a9feac02/3085076/f8f985ca-2c61-11f1-a495-02cb2094fa1d/file/20
 26-04-02 Spencer Creek Agenda.pdf
ATTACH;FILENAME=2026-04-02 Spencer Creek Meeting Book.pdf;FMTTYPE=applicati
 on/pdf:https://campussuite-storage.s3.amazonaws.com/prod/1559309/a85e2a0a-
 bb26-11f0-a354-0a58a9feac02/3085485/4c3dd6f8-2d22-11f1-9200-0afff9befcc5/f
 ile/2026-04-02 Spencer Creek Meeting Book.pdf
END:VEVENT
END:VCALENDAR
