BEGIN:VCALENDAR
VERSION:2.0
PRODID:SchoolNow
CALSCALE:GREGORIAN
BEGIN:VEVENT
UID:6431d040-c574-11f0-a53a-02af76d80f6f
DTSTAMP:20260331T165050Z
SUMMARY:CDD Board Meeting - Mar. 2026
LOCATION:the Offices of Inframark located at 2005 Pan Am Circle\, Suite 300
 \, Tampa\, FL 33607
URL;VALUE=URI:https://www.spencercreekcdd.com/calendar/8803765/cdd-board-me
 eting-mar-2026
DTSTART:20260305T190000Z
DTEND:20260305T200000Z
ATTACH;FILENAME=2026-03-05 Spencer Creek Meeting Book.pdf;FMTTYPE=applicati
 on/pdf:https://campussuite-storage.s3.amazonaws.com/prod/1559309/a85e2a0a-
 bb26-11f0-a354-0a58a9feac02/3085118/973a062a-2c70-11f1-a64b-0afff963552b/f
 ile/2026-03-05 Spencer Creek Meeting Book.pdf
END:VEVENT
END:VCALENDAR
