BEGIN:VCALENDAR
VERSION:2.0
PRODID:SchoolNow
CALSCALE:GREGORIAN
BEGIN:VEVENT
UID:5932ebca-c574-11f0-8682-0e87b21e145b
DTSTAMP:20260331T163843Z
SUMMARY:CDD Board Meeting - Feb. 2026
LOCATION:the Offices of Inframark located at 2005 Pan Am Circle\, Suite 300
 \, Tampa\, FL 33607
URL;VALUE=URI:https://www.spencercreekcdd.com/calendar/8803763/cdd-board-me
 eting-feb-2026
DTSTART:20260205T190000Z
DTEND:20260205T200000Z
ATTACH;FILENAME=2026-02-05 Spencer Creek Meeting Book.pdf;FMTTYPE=applicati
 on/pdf:https://campussuite-storage.s3.amazonaws.com/prod/1559309/a85e2a0a-
 bb26-11f0-a354-0a58a9feac02/3085119/973a54ea-2c70-11f1-bc7a-0afff963552b/f
 ile/2026-02-05 Spencer Creek Meeting Book.pdf
END:VEVENT
END:VCALENDAR
