BEGIN:VCALENDAR
VERSION:2.0
PRODID:SchoolNow
CALSCALE:GREGORIAN
BEGIN:VEVENT
UID:4f56e796-c574-11f0-9af4-02343ccddbd9
DTSTAMP:20260331T163714Z
SUMMARY:CDD Board Meeting - Jan. 2026
LOCATION:the Offices of Inframark located at 2005 Pan Am Circle\, Suite 300
 \, Tampa\, FL 33607
URL;VALUE=URI:https://www.spencercreekcdd.com/calendar/8803761/cdd-board-me
 eting-jan-2026
DTSTART:20260108T190000Z
DTEND:20260108T200000Z
ATTACH;FILENAME=2026-01-08 Spencer Creek Agenda.pdf;FMTTYPE=application/pdf
 :https://campussuite-storage.s3.amazonaws.com/prod/1559309/a85e2a0a-bb26-1
 1f0-a354-0a58a9feac02/3085075/f8f94970-2c61-11f1-afa2-02cb2094fa1d/file/20
 26-01-08 Spencer Creek Agenda.pdf
END:VEVENT
END:VCALENDAR
