BEGIN:VCALENDAR
VERSION:2.0
PRODID:SchoolNow
CALSCALE:GREGORIAN
BEGIN:VEVENT
UID:44d222c2-c574-11f0-8d33-0a58a9feac02
DTSTAMP:20260331T163533Z
SUMMARY:CDD Board Meeting - Dec. 2025
LOCATION:the Offices of Inframark located at 2005 Pan Am Circle\, Suite 300
 \, Tampa\, FL 33607
URL;VALUE=URI:https://www.spencercreekcdd.com/calendar/8803759/cdd-board-me
 eting-dec-2025
DTSTART:20251204T190000Z
DTEND:20251204T200000Z
ATTACH;FILENAME=2025-12-04 - Spencer Creek CDD - Agenda Package.pdf;FMTTYPE
 =application/pdf:https://campussuite-storage.s3.amazonaws.com/prod/1559309
 /a85e2a0a-bb26-11f0-a354-0a58a9feac02/3047407/f4c5bf3a-d137-11f0-ac54-0a58
 a9feac02/file/2025-12-04 - Spencer Creek CDD - Agenda Package.pdf
END:VEVENT
END:VCALENDAR
