BEGIN:VCALENDAR
VERSION:2.0
PRODID:SchoolNow
CALSCALE:GREGORIAN
BEGIN:VEVENT
UID:1b22be5a-c574-11f0-8f13-0a58a9feac02
DTSTAMP:20251121T164256Z
SUMMARY:CDD Board Meeting - Nov. 2025
LOCATION:the Offices of Inframark located at 2005 Pan Am Circle\, Suite 300
 \, Tampa\, FL 33607
URL;VALUE=URI:https://www.spencercreekcdd.com/calendar/8803757/cdd-board-me
 eting-nov-2025
DTSTART:20251106T190000Z
DTEND:20251106T200000Z
ATTACH;FILENAME=2025-11-06 - Spencer Creek CDD - Agenda Package.pdf;FMTTYPE
 =application/pdf:https://campussuite-storage.s3.amazonaws.com/prod/1559309
 /a85e2a0a-bb26-11f0-a354-0a58a9feac02/3034376/917dd03a-bc14-11f0-88fd-0a58
 a9feac02/file/2025-11-06 - Spencer Creek CDD - Agenda Package.pdf
END:VEVENT
END:VCALENDAR
