BEGIN:VCALENDAR
VERSION:2.0
PRODID:SchoolNow
CALSCALE:GREGORIAN
BEGIN:VEVENT
UID:10e9cdf2-c574-11f0-b989-0a58a9feac02
DTSTAMP:20251121T164235Z
SUMMARY:CDD Board Meeting - Oct. 2025
LOCATION:the Offices of Inframark located at 2005 Pan Am Circle\, Suite 300
 \, Tampa\, FL 33607
URL;VALUE=URI:https://www.spencercreekcdd.com/calendar/8803755/cdd-board-me
 eting-oct-2025
DTSTART:20251002T180000Z
DTEND:20251002T190000Z
ATTACH;FILENAME=2025-10-02 Spencer Creek Meeting Book.pdf;FMTTYPE=applicati
 on/pdf:https://campussuite-storage.s3.amazonaws.com/prod/1559309/a85e2a0a-
 bb26-11f0-a354-0a58a9feac02/3034378/917dd1ca-bc14-11f0-921b-0a58a9feac02/f
 ile/2025-10-02 Spencer Creek Meeting Book.pdf
END:VEVENT
END:VCALENDAR
